BEGIN:VCALENDAR
VERSION:2.0
PRODID:-//Squarespace Inc/Squarespace 6//v6//EN
BEGIN:VEVENT
UID:5a7352c28165f5f5a5a8a15c@squarespace.com
DTSTAMP:20180201T175150Z
DTSTART:20180720T080000Z
DTEND:20180722T210000Z
SUMMARY:Workshop an der Hypnosystem-Tagung des mei in Innsbruck
END:VEVENT
END:VCALENDAR
