BEGIN:VCALENDAR
VERSION:2.0
PRODID:-//Squarespace Inc/Squarespace 6//v6//EN
BEGIN:VEVENT
UID:57f94baf46c3c42b614efc90@squarespace.com
DTSTAMP:20161008T194138Z
DTSTART:20171121T210000Z
DTEND:20171121T220000Z
SUMMARY:LAG-Tagung in Köln
END:VEVENT
END:VCALENDAR
